BEGIN:VCALENDAR
VERSION:2.0
PRODID:-//The Elevations Hawai‘i - ECPv6.15.14//NONSGML v1.0//EN
CALSCALE:GREGORIAN
METHOD:PUBLISH
X-ORIGINAL-URL:https://theelevations.com
X-WR-CALDESC:Events for The Elevations Hawai‘i
REFRESH-INTERVAL;VALUE=DURATION:PT1H
X-Robots-Tag:noindex
X-PUBLISHED-TTL:PT1H
BEGIN:VTIMEZONE
TZID:Pacific/Honolulu
BEGIN:STANDARD
TZOFFSETFROM:-1000
TZOFFSETTO:-1000
TZNAME:HST
DTSTART:20250101T000000
END:STANDARD
END:VTIMEZONE
BEGIN:VEVENT
DTSTART;TZID=Pacific/Honolulu:20260607T170000
DTEND;TZID=Pacific/Honolulu:20260607T210000
DTSTAMP:20260420T021001
CREATED:20260122T091112Z
LAST-MODIFIED:20260122T091112Z
UID:10000177-1780851600-1780866000@theelevations.com
SUMMARY:Hawai’i Soul Revue 2026
DESCRIPTION:Sunday — June 7\, 2026 \nHawai’i Soul Revue 2026 \nfeaturing… The Elevations\, Isaac Aragon\, Ginai\, and more… \n@ Blue Note Hawai’i (2335 KALAKAUA AVE\, HONOLULU HI 96815 I 808-777-4890 I BLUENOTEHAWAII.COM) \nAll Ages  |  7:00 pm (doors at 5:00 pm)   |   $25 – $30
URL:https://theelevations.com/event/hawaii-soul-revue-2026/
LOCATION:Blue Note Hawaii\, 2335 Kalakaua Ave.\, Honolulu\, HI\, 96815\, United States
GEO:21.2771844;-157.8275909
X-APPLE-STRUCTURED-LOCATION;VALUE=URI;X-ADDRESS=Blue Note Hawaii 2335 Kalakaua Ave. Honolulu HI 96815 United States;X-APPLE-RADIUS=500;X-TITLE=2335 Kalakaua Ave.:geo:-157.8275909,21.2771844
END:VEVENT
END:VCALENDAR